BEGIN:VCALENDAR
VERSION:2.0
PRODID:-//Sri Krish International School - ECPv6.15.20//NONSGML v1.0//EN
CALSCALE:GREGORIAN
METHOD:PUBLISH
X-WR-CALNAME:Sri Krish International School
X-ORIGINAL-URL:https://srikrishinternationalschool.com
X-WR-CALDESC:Events for Sri Krish International School
REFRESH-INTERVAL;VALUE=DURATION:PT1H
X-Robots-Tag:noindex
X-PUBLISHED-TTL:PT1H
BEGIN:VTIMEZONE
TZID:Asia/Kolkata
BEGIN:STANDARD
TZOFFSETFROM:+0530
TZOFFSETTO:+0530
TZNAME:IST
DTSTART:20230101T000000
END:STANDARD
END:VTIMEZONE
BEGIN:VEVENT
DTSTART;TZID=Asia/Kolkata:20240621T093000
DTEND;TZID=Asia/Kolkata:20240621T160000
DTSTAMP:20260423T170139
CREATED:20240619T182725Z
LAST-MODIFIED:20240620T043325Z
UID:3967-1718962200-1718985600@srikrishinternationalschool.com
SUMMARY:10th International Yoga Day 2024
DESCRIPTION:
URL:https://srikrishinternationalschool.com/event/10th-international-yoga-day-2024/
LOCATION:Main Branch-Kovur\, 1/191 A\, Rajiv Gandhi Nagar\, Kundrathur Main Road\, Kovur\, Chennai\, Tamil Nadu\, 6000128\, India
CATEGORIES:Events/Workshops
ATTACH;FMTTYPE=image/jpeg:https://srikrishinternationalschool.com/wp-content/uploads/2024/06/Yoga-Day-website-copy.jpg
ORGANIZER;CN="Sri Krish International School - Kovur":MAILTO:skischoolcbse@gmail.com
END:VEVENT
END:VCALENDAR