BEGIN:VCALENDAR
VERSION:2.0
PRODID:-//Sri Krish International School - ECPv6.15.20//NONSGML v1.0//EN
CALSCALE:GREGORIAN
METHOD:PUBLISH
X-ORIGINAL-URL:https://srikrishinternationalschool.com
X-WR-CALDESC:Events for Sri Krish International School
REFRESH-INTERVAL;VALUE=DURATION:PT1H
X-Robots-Tag:noindex
X-PUBLISHED-TTL:PT1H
BEGIN:VTIMEZONE
TZID:Asia/Kolkata
BEGIN:STANDARD
TZOFFSETFROM:+0530
TZOFFSETTO:+0530
TZNAME:IST
DTSTART:20240101T000000
END:STANDARD
END:VTIMEZONE
BEGIN:VEVENT
DTSTART;VALUE=DATE:20250719
DTEND;VALUE=DATE:20250720
DTSTAMP:20260421T182151
CREATED:20250628T110542Z
LAST-MODIFIED:20250715T135610Z
UID:5710-1752883200-1752969599@srikrishinternationalschool.com
SUMMARY:2nd Intra School Chess Tournament
DESCRIPTION:Sri Krish Chess Club Conducts\n2nd Intra School Chess Tournament\nParticipating in chess tournament on 19th July 2025 (Saturday) allows players to test their skills against diverse opponents\, learn from different playing styles\, and gain valuable experience. \n\nVenue: Sri Krish International School Auditorium\, Kovur\nDate: 19-07-25 (Saturday)\nTime Control: 25 mins (No increment)\nRounds: Total number of rounds will be informed later.\n\nEntry Fee: ₹350 only \n\nEntry fee must be paid online through school website.\n[Entry fee should not be paid on school cash counter]\nEntry closes on 10th July 2025\n\nAdditional Information\n\nTransport: Players are requested to arrange their own transportation. The school will not provide any transport facilities.\nKG Students: All participants from the KG category will receive a medal.\nParticipation Certificate: All participants will receive a certificate of participation.\nContact Details: For any queries\, please contact:\n📞 72999 99904\, 99402 17702\nMotivational Note:\n\n“Every chess master was once a beginner.”\nTournament Regulations:\n\n\n\nEntry fee is non-refundable and non-transferable.\nTime control: 25 minutes\, no increment.\nLatest system of play: The latest FIDE rules in force shall apply and the Swiss system will be followed.\nTie Break: Buchholz tie-break system will be applied. In case of tie\, prize will not be shared.\nChief Arbiter’s decision is final.\nSpot entries are not allowed during tournament.\nPlayers must bring their own chess set.\nPlayers can carry own breakfast\, snacks\, lunch etc.\nPlayers must report by 8:00 AM at the school campus.\nDress code: Regular school uniform\nThings not to carry:\n\n\n\nMobile phone\nAny type of watch (smart & analog)\nAny other electronic device\n\n\n\n\n\n\n\nCategories\n\nCategory 1: Pre-primary – KG to 2nd Standard\nCategory 2: Primary – 3rd to 5th Standard\nCategory 3: Middle School – 6th to 8th Standard\nCategory 4: High School – 9th to 12th Standard\n\nTrophies: \n\nBoys & Girls Top 5 – Trophies for each category\n6th to 10th – Medals\n\nSchedule: \n\nInauguration Ceremony: 9:00 AM\n1st Round Starts: 9:30 AM\nPrize Distribution: 5:30 PM\n\nNote: Each category’s top 3 players will be selected for the upcoming inter-school competition. \nRegistrations Closed.
URL:https://srikrishinternationalschool.com/event/2nd-intra-school-chess-tournament/
LOCATION:Main Branch-Kovur\, 1/191 A\, Rajiv Gandhi Nagar\, Kundrathur Main Road\, Kovur\, Chennai\, Tamil Nadu\, 6000128\, India
CATEGORIES:Events/Workshops
ATTACH;FMTTYPE=image/jpeg:https://srikrishinternationalschool.com/wp-content/uploads/2025/06/Chess-Day.jpg
ORGANIZER;CN="Sri Krish International School - Kovur":MAILTO:skischoolcbse@gmail.com
END:VEVENT
END:VCALENDAR