BEGIN:VCALENDAR
VERSION:2.0
PRODID:-//Sri Krish International School - ECPv6.15.20//NONSGML v1.0//EN
CALSCALE:GREGORIAN
METHOD:PUBLISH
X-WR-CALNAME:Sri Krish International School
X-ORIGINAL-URL:https://srikrishinternationalschool.com
X-WR-CALDESC:Events for Sri Krish International School
REFRESH-INTERVAL;VALUE=DURATION:PT1H
X-Robots-Tag:noindex
X-PUBLISHED-TTL:PT1H
BEGIN:VTIMEZONE
TZID:Asia/Kolkata
BEGIN:STANDARD
TZOFFSETFROM:+0530
TZOFFSETTO:+0530
TZNAME:IST
DTSTART:20220101T000000
END:STANDARD
END:VTIMEZONE
BEGIN:VEVENT
DTSTART;TZID=Asia/Kolkata:20231124T090000
DTEND;TZID=Asia/Kolkata:20231125T170000
DTSTAMP:20260424T035913
CREATED:20231121T181850Z
LAST-MODIFIED:20231121T184402Z
UID:2766-1700816400-1700931600@srikrishinternationalschool.com
SUMMARY:Technosium 2023
DESCRIPTION:The Sri Krish International School is excited to announce Technosium 2023\, an innovative and dynamic event showcasing technological prowess and creativity. Hosted right here on our campus\, this event promises to be a convergence of groundbreaking ideas\, ingenious inventions\, and spirited competitions. Join us for a celebration of innovation and knowledge as we explore the frontiers of technology at Technosium 2023!
URL:https://srikrishinternationalschool.com/event/technosium-2023/
LOCATION:Main Branch-Kovur\, 1/191 A\, Rajiv Gandhi Nagar\, Kundrathur Main Road\, Kovur\, Chennai\, Tamil Nadu\, 6000128\, India
CATEGORIES:Events/Workshops
ATTACH;FMTTYPE=image/jpeg:https://srikrishinternationalschool.com/wp-content/uploads/2023/11/Technosium-2023.jpg
ORGANIZER;CN="Sri Krish International School - Kovur":MAILTO:skischoolcbse@gmail.com
END:VEVENT
BEGIN:VEVENT
DTSTART;TZID=Asia/Kolkata:20230812T090000
DTEND;TZID=Asia/Kolkata:20230812T170000
DTSTAMP:20260424T035913
CREATED:20230807T173613Z
LAST-MODIFIED:20230807T174335Z
UID:1305-1691830800-1691859600@srikrishinternationalschool.com
SUMMARY:Annual Sports Day 2023
DESCRIPTION:Join us at Sri Krish International School\, Kovur\, on August 12th\, 2023\, as we celebrate the 8th Annual Sports Day! It’s a day filled with exhilarating events and friendly competition\, where our talented students showcase their athletic prowess and sportsmanship. From track and field events to team sports\, there’s something for everyone to enjoy and cheer for. Come and witness the thrill of young athletes striving for victory and displaying their passion for sports. Let’s come together as a community to support and encourage our students on this exciting day of athleticism and camaraderie. See you there!
URL:https://srikrishinternationalschool.com/event/annual-sports-day-2023/
LOCATION:Main Branch-Kovur\, 1/191 A\, Rajiv Gandhi Nagar\, Kundrathur Main Road\, Kovur\, Chennai\, Tamil Nadu\, 6000128\, India
CATEGORIES:Events/Workshops
ATTACH;FMTTYPE=image/jpeg:https://srikrishinternationalschool.com/wp-content/uploads/2023/08/Sports-Day-scaled.jpg
ORGANIZER;CN="Sri Krish International School - Kovur":MAILTO:skischoolcbse@gmail.com
END:VEVENT
END:VCALENDAR