BEGIN:VCALENDAR
VERSION:2.0
PRODID:-//Sri Krish International School - ECPv6.15.20//NONSGML v1.0//EN
CALSCALE:GREGORIAN
METHOD:PUBLISH
X-ORIGINAL-URL:https://srikrishinternationalschool.com
X-WR-CALDESC:Events for Sri Krish International School
REFRESH-INTERVAL;VALUE=DURATION:PT1H
X-Robots-Tag:noindex
X-PUBLISHED-TTL:PT1H
BEGIN:VTIMEZONE
TZID:Asia/Kolkata
BEGIN:STANDARD
TZOFFSETFROM:+0530
TZOFFSETTO:+0530
TZNAME:IST
DTSTART:20250101T000000
END:STANDARD
END:VTIMEZONE
BEGIN:VEVENT
DTSTART;VALUE=DATE:20260425
DTEND;VALUE=DATE:20260427
DTSTAMP:20260424T021614
CREATED:20260422T060620Z
LAST-MODIFIED:20260422T060620Z
UID:7192-1777075200-1777247999@srikrishinternationalschool.com
SUMMARY:URCHAV 2K26
DESCRIPTION:10ᵗʰ Annual Day Celebration – URCHAV 2K26 \nSri Krish International School proudly invites you to celebrate URCHAV 2K26\, a grand Annual Day filled with vibrant performances\, cultural showcases\, and unforgettable moments. \nJoin us for an evening where students light up the stage with music\, dance\, and creativity\, celebrating talent\, dedication\, and excellence. \n🌟 Special Attractions\n✨ Spectacular Dance Performances🎤 Musical & Cultural Events🌟 Star Guests & Honorable Dignitaries🎉 A Grand Celebration of Talent \n📅 Event Details\nDate: 25ᵗʰ & 26ᵗʰ AprilTime: 4:00 PM onwardsVenue: Sri Krish International School\, Kovur
URL:https://srikrishinternationalschool.com/event/urchav-2k26/
LOCATION:Main Branch-Kovur\, 1/191 A\, Rajiv Gandhi Nagar\, Kundrathur Main Road\, Kovur\, Chennai\, Tamil Nadu\, 6000128\, India
CATEGORIES:Events/Workshops
ATTACH;FMTTYPE=image/png:https://srikrishinternationalschool.com/wp-content/uploads/2026/04/Annual-Day-25-26.png
ORGANIZER;CN="Sri Krish International School - Kovur":MAILTO:skischoolcbse@gmail.com
END:VEVENT
END:VCALENDAR