BEGIN:VCALENDAR
VERSION:2.0
PRODID:-//Sri Krish International School - ECPv6.15.20//NONSGML v1.0//EN
CALSCALE:GREGORIAN
METHOD:PUBLISH
X-ORIGINAL-URL:https://srikrishinternationalschool.com
X-WR-CALDESC:Events for Sri Krish International School
REFRESH-INTERVAL;VALUE=DURATION:PT1H
X-Robots-Tag:noindex
X-PUBLISHED-TTL:PT1H
BEGIN:VTIMEZONE
TZID:Asia/Kolkata
BEGIN:STANDARD
TZOFFSETFROM:+0530
TZOFFSETTO:+0530
TZNAME:IST
DTSTART:20230101T000000
END:STANDARD
END:VTIMEZONE
BEGIN:VEVENT
DTSTART;TZID=Asia/Kolkata:20240822T090000
DTEND;TZID=Asia/Kolkata:20240822T170000
DTSTAMP:20260423T130506
CREATED:20240814T102610Z
LAST-MODIFIED:20240821T094210Z
UID:4245-1724317200-1724346000@srikrishinternationalschool.com
SUMMARY:Chess Day 2024
DESCRIPTION:Registrations Closed. Please contact Office for more details. Event will be conducted on Aug 22\, 2024.
URL:https://srikrishinternationalschool.com/event/chess-day-2024/
LOCATION:Main Branch-Kovur\, 1/191 A\, Rajiv Gandhi Nagar\, Kundrathur Main Road\, Kovur\, Chennai\, Tamil Nadu\, 6000128\, India
CATEGORIES:Events/Workshops
ORGANIZER;CN="Sri Krish International School - Kovur":MAILTO:skischoolcbse@gmail.com
END:VEVENT
END:VCALENDAR